BEGIN:VCALENDAR
VERSION:2.0
PRODID:-//Nether Providence Township - ECPv6.9.0//NONSGML v1.0//EN
CALSCALE:GREGORIAN
METHOD:PUBLISH
X-WR-CALNAME:Nether Providence Township
X-ORIGINAL-URL:https://netherprovidence.org
X-WR-CALDESC:Events for Nether Providence Township
REFRESH-INTERVAL;VALUE=DURATION:PT1H
X-Robots-Tag:noindex
X-PUBLISHED-TTL:PT1H
BEGIN:VTIMEZONE
TZID:America/New_York
BEGIN:DAYLIGHT
TZOFFSETFROM:-0500
TZOFFSETTO:-0400
TZNAME:EDT
DTSTART:20220313T070000
END:DAYLIGHT
BEGIN:STANDARD
TZOFFSETFROM:-0400
TZOFFSETTO:-0500
TZNAME:EST
DTSTART:20221106T060000
END:STANDARD
END:VTIMEZONE
BEGIN:VEVENT
DTSTART;TZID=America/New_York:20220801T193000
DTEND;TZID=America/New_York:20220801T210000
DTSTAMP:20260420T064055
CREATED:20220711T192510Z
LAST-MODIFIED:20220711T192527Z
UID:6460-1659382200-1659387600@netherprovidence.org
SUMMARY:Planning Meeting
DESCRIPTION:
URL:https://netherprovidence.org/event/planning-meeting-2/
LOCATION:Township Building\, 214 Sykes Lane\, Wallingford\, PA\, 19086
END:VEVENT
BEGIN:VEVENT
DTSTART;TZID=America/New_York:20220803T140000
DTEND;TZID=America/New_York:20220803T190000
DTSTAMP:20260420T064055
CREATED:20220711T181526Z
LAST-MODIFIED:20220711T181526Z
UID:6444-1659535200-1659553200@netherprovidence.org
SUMMARY:Blood Drive
DESCRIPTION:
URL:https://netherprovidence.org/event/blood-drive/
LOCATION:Nether Providence Township Admin building\, 214 Sykes Alne\, Wallingford\, PA\, 19086\, United States
END:VEVENT
BEGIN:VEVENT
DTSTART;TZID=America/New_York:20220808T193000
DTEND;TZID=America/New_York:20220808T210000
DTSTAMP:20260420T064055
CREATED:20220711T192553Z
LAST-MODIFIED:20220711T193259Z
UID:6462-1659987000-1659992400@netherprovidence.org
SUMMARY:Parks Meeting
DESCRIPTION:
URL:https://netherprovidence.org/event/parks-meeting-2/
LOCATION:Township Building\, 214 Sykes Lane\, Wallingford\, PA\, 19086
END:VEVENT
BEGIN:VEVENT
DTSTART;TZID=America/New_York:20220811T193000
DTEND;TZID=America/New_York:20220811T210000
DTSTAMP:20260420T064055
CREATED:20220711T192654Z
LAST-MODIFIED:20220711T192657Z
UID:6464-1660246200-1660251600@netherprovidence.org
SUMMARY:Board of Commissioners Meeting
DESCRIPTION:
URL:https://netherprovidence.org/event/board-of-commissioners-meeting-2/
LOCATION:Township Building\, 214 Sykes Lane\, Wallingford\, PA\, 19086
END:VEVENT
BEGIN:VEVENT
DTSTART;TZID=America/New_York:20220813T100000
DTEND;TZID=America/New_York:20220813T140000
DTSTAMP:20260420T064055
CREATED:20220719T174439Z
LAST-MODIFIED:20220719T174439Z
UID:6498-1660384800-1660399200@netherprovidence.org
SUMMARY:Bulk Trash Event- Hepford Park
DESCRIPTION:
URL:https://netherprovidence.org/event/bulk-trash-event-hepford-park/
END:VEVENT
BEGIN:VEVENT
DTSTART;TZID=America/New_York:20220813T201500
DTEND;TZID=America/New_York:20220813T221500
DTSTAMP:20260420T064055
CREATED:20220711T154343Z
LAST-MODIFIED:20220711T154343Z
UID:6436-1660421700-1660428900@netherprovidence.org
SUMMARY:Sapovits Movie Night
DESCRIPTION:
URL:https://netherprovidence.org/event/sapovits-movie-night/
LOCATION:Sapovits Park
END:VEVENT
BEGIN:VEVENT
DTSTART;TZID=America/New_York:20220815T193000
DTEND;TZID=America/New_York:20220815T210000
DTSTAMP:20260420T064055
CREATED:20220711T192756Z
LAST-MODIFIED:20220711T192758Z
UID:6466-1660591800-1660597200@netherprovidence.org
SUMMARY:Zoning Meeting
DESCRIPTION:
URL:https://netherprovidence.org/event/zoning-meeting-2/
LOCATION:Township Building\, 214 Sykes Lane\, Wallingford\, PA\, 19086
END:VEVENT
BEGIN:VEVENT
DTSTART;TZID=America/New_York:20220820T080000
DTEND;TZID=America/New_York:20220820T120000
DTSTAMP:20260420T064055
CREATED:20220719T174059Z
LAST-MODIFIED:20220719T174059Z
UID:6496-1660982400-1660996800@netherprovidence.org
SUMMARY:CAT Club Clean up
DESCRIPTION:
URL:https://netherprovidence.org/event/cat-club-clean-up/
END:VEVENT
BEGIN:VEVENT
DTSTART;TZID=America/New_York:20220824T193000
DTEND;TZID=America/New_York:20220824T210000
DTSTAMP:20260420T064055
CREATED:20220711T192832Z
LAST-MODIFIED:20220711T192834Z
UID:6468-1661369400-1661374800@netherprovidence.org
SUMMARY:EAC Meeting
DESCRIPTION:
URL:https://netherprovidence.org/event/eac-meeting-2/
LOCATION:Township Building\, 214 Sykes Lane\, Wallingford\, PA\, 19086
END:VEVENT
BEGIN:VEVENT
DTSTART;TZID=America/New_York:20220825T193000
DTEND;TZID=America/New_York:20220825T210000
DTSTAMP:20260420T064055
CREATED:20220711T192927Z
LAST-MODIFIED:20220711T192937Z
UID:6470-1661455800-1661461200@netherprovidence.org
SUMMARY:Board of Commissioners
DESCRIPTION:
URL:https://netherprovidence.org/event/board-of-commissioners-2/
LOCATION:Township Building\, 214 Sykes Lane\, Wallingford\, PA\, 19086
END:VEVENT
END:VCALENDAR