BEGIN:VCALENDAR
VERSION:2.0
PRODID:-//Nether Providence Township - ECPv6.9.0//NONSGML v1.0//EN
CALSCALE:GREGORIAN
METHOD:PUBLISH
X-ORIGINAL-URL:https://netherprovidence.org
X-WR-CALDESC:Events for Nether Providence Township
REFRESH-INTERVAL;VALUE=DURATION:PT1H
X-Robots-Tag:noindex
X-PUBLISHED-TTL:PT1H
BEGIN:VTIMEZONE
TZID:America/New_York
BEGIN:DAYLIGHT
TZOFFSETFROM:-0500
TZOFFSETTO:-0400
TZNAME:EDT
DTSTART:20220313T070000
END:DAYLIGHT
BEGIN:STANDARD
TZOFFSETFROM:-0400
TZOFFSETTO:-0500
TZNAME:EST
DTSTART:20221106T060000
END:STANDARD
END:VTIMEZONE
BEGIN:VEVENT
DTSTART;TZID=America/New_York:20220711T080000
DTEND;TZID=America/New_York:20220711T170000
DTSTAMP:20260420T080924
CREATED:20220711T191857Z
LAST-MODIFIED:20220711T191857Z
UID:6450-1657526400-1657558800@netherprovidence.org
SUMMARY:Parks Meeting
DESCRIPTION:https://netherprovidence.org/township_news/7-11-22-parks-commission-meeting-virtual/
URL:https://netherprovidence.org/event/parks-meeting/
END:VEVENT
BEGIN:VEVENT
DTSTART;TZID=America/New_York:20220711T193000
DTEND;TZID=America/New_York:20220711T210000
DTSTAMP:20260420T080924
CREATED:20220711T191736Z
LAST-MODIFIED:20220711T191736Z
UID:6447-1657567800-1657573200@netherprovidence.org
SUMMARY:Planning Meeting
DESCRIPTION:
URL:https://netherprovidence.org/event/planning-meeting/
LOCATION:Township Building\, 214 Sykes Lane\, Wallingford\, PA\, 19086
END:VEVENT
BEGIN:VEVENT
DTSTART;TZID=America/New_York:20220714T193000
DTEND;TZID=America/New_York:20220714T210000
DTSTAMP:20260420T080924
CREATED:20220711T192036Z
LAST-MODIFIED:20220711T192039Z
UID:6452-1657827000-1657832400@netherprovidence.org
SUMMARY:Board of Commissioners Meeting
DESCRIPTION:
URL:https://netherprovidence.org/event/board-of-commissioners-meeting/
LOCATION:Township Building\, 214 Sykes Lane\, Wallingford\, PA\, 19086
END:VEVENT
BEGIN:VEVENT
DTSTART;TZID=America/New_York:20220718T193000
DTEND;TZID=America/New_York:20220718T210000
DTSTAMP:20260420T080924
CREATED:20220711T192224Z
LAST-MODIFIED:20220711T192226Z
UID:6454-1658172600-1658178000@netherprovidence.org
SUMMARY:Zoning Meeting
DESCRIPTION:
URL:https://netherprovidence.org/event/zoning-meeting/
LOCATION:Township Building\, 214 Sykes Lane\, Wallingford\, PA\, 19086
END:VEVENT
BEGIN:VEVENT
DTSTART;TZID=America/New_York:20220727T193000
DTEND;TZID=America/New_York:20220727T210000
DTSTAMP:20260420T080924
CREATED:20220711T192303Z
LAST-MODIFIED:20220711T193426Z
UID:6456-1658950200-1658955600@netherprovidence.org
SUMMARY:EAC Meeting
DESCRIPTION:
URL:https://netherprovidence.org/event/eac-meeting/
LOCATION:Township Building\, 214 Sykes Lane\, Wallingford\, PA\, 19086
END:VEVENT
BEGIN:VEVENT
DTSTART;TZID=America/New_York:20220728T193000
DTEND;TZID=America/New_York:20220728T210000
DTSTAMP:20260420T080924
CREATED:20220711T192405Z
LAST-MODIFIED:20220711T192405Z
UID:6458-1659036600-1659042000@netherprovidence.org
SUMMARY:Board of Commissioners
DESCRIPTION:
URL:https://netherprovidence.org/event/board-of-commissioners/
LOCATION:Township Building\, 214 Sykes Lane\, Wallingford\, PA\, 19086
END:VEVENT
END:VCALENDAR